BEGIN:VCALENDAR
VERSION:2.0
PRODID:-//&Ouml;sterreichisch-Schwedische Gesellschaft - ECPv6.15.20//NONSGML v1.0//EN
CALSCALE:GREGORIAN
METHOD:PUBLISH
X-WR-CALNAME:&Ouml;sterreichisch-Schwedische Gesellschaft
X-ORIGINAL-URL:https://www.utopig.at
X-WR-CALDESC:Veranstaltungen für &Ouml;sterreichisch-Schwedische Gesellschaft
REFRESH-INTERVAL;VALUE=DURATION:PT1H
X-Robots-Tag:noindex
X-PUBLISHED-TTL:PT1H
BEGIN:VTIMEZONE
TZID:Europe/Vienna
BEGIN:DAYLIGHT
TZOFFSETFROM:+0100
TZOFFSETTO:+0200
TZNAME:CEST
DTSTART:20240331T010000
END:DAYLIGHT
BEGIN:STANDARD
TZOFFSETFROM:+0200
TZOFFSETTO:+0100
TZNAME:CET
DTSTART:20241027T010000
END:STANDARD
BEGIN:DAYLIGHT
TZOFFSETFROM:+0100
TZOFFSETTO:+0200
TZNAME:CEST
DTSTART:20250330T010000
END:DAYLIGHT
BEGIN:STANDARD
TZOFFSETFROM:+0200
TZOFFSETTO:+0100
TZNAME:CET
DTSTART:20251026T010000
END:STANDARD
BEGIN:DAYLIGHT
TZOFFSETFROM:+0100
TZOFFSETTO:+0200
TZNAME:CEST
DTSTART:20260329T010000
END:DAYLIGHT
BEGIN:STANDARD
TZOFFSETFROM:+0200
TZOFFSETTO:+0100
TZNAME:CET
DTSTART:20261025T010000
END:STANDARD
END:VTIMEZONE
BEGIN:VEVENT
DTSTART;TZID=Europe/Vienna:20250319T183000
DTEND;TZID=Europe/Vienna:20250630T200000
DTSTAMP:20260426T013039
CREATED:20241203T093058Z
LAST-MODIFIED:20250422T081615Z
UID:3364-1742409000-1751313600@www.utopig.at
SUMMARY:Schwedisch B2 Literatur
DESCRIPTION:13 Einheiten \nIm Kurs sind alle willkommen\, die schon Schwedisch B2 besucht oder vergleichbare Vorkenntnisse der schwedischen Sprache haben. Wir lesen schwedische Literatur und sprechen im Kurs darüber.\nWie auch alle anderen Kurse richtet sich dieser Kurs an diejenigen\, die in Schweden studieren oder arbeiten wollen\, dort Urlaub machen\, an Liebhaberinnen des Landes als auch an jene\, die ihre Sprachkenntnisse vertiefen und pflegen möchten. \nBeginn und Kurstage sind \nMittwochs 18:30 Uhr bis 20:00 Uhr\nBeginn: Mittwoch\, 19. März 2025\nKursort: Hybrid (wird bekanntgegeben) \nKursleiter: Johan Jansson
URL:https://www.utopig.at/event/schwedisch-b2/
CATEGORIES:Alle ÖSG Veranstaltungen,ÖSG Sprachkurs
ATTACH;FMTTYPE=image/jpeg:https://www.utopig.at/wp-content/uploads/2024/12/Schwedisch-B2-Literatur.jpg
ORGANIZER;CN="%C3%96SG":MAILTO:kontakt@oesterreichschweden.at
END:VEVENT
END:VCALENDAR